BEGIN:VCALENDAR
VERSION:2.0
PRODID:-//St John’s Catholic Primary School - ECPv6.1.0.2//NONSGML v1.0//EN
CALSCALE:GREGORIAN
METHOD:PUBLISH
X-WR-CALNAME:St John’s Catholic Primary School
X-ORIGINAL-URL:https://stjohnsrotherhithe.co.uk
X-WR-CALDESC:Events for St John’s Catholic Primary School
REFRESH-INTERVAL;VALUE=DURATION:PT1H
X-Robots-Tag:noindex
X-PUBLISHED-TTL:PT1H
BEGIN:VTIMEZONE
TZID:UTC
BEGIN:STANDARD
TZOFFSETFROM:+0000
TZOFFSETTO:+0000
TZNAME:UTC
DTSTART:20260101T000000
END:STANDARD
END:VTIMEZONE
BEGIN:VEVENT
DTSTART;VALUE=DATE:20260105
DTEND;VALUE=DATE:20260106
DTSTAMP:20260422T072043
CREATED:20251114T124014Z
LAST-MODIFIED:20251114T124014Z
UID:10060-1767571200-1767657599@stjohnsrotherhithe.co.uk
SUMMARY:Staff INSET Day (School closed)
DESCRIPTION:Staff INSET Day (School closed)
URL:https://stjohnsrotherhithe.co.uk/event/staff-inset-day-school-closed/
END:VEVENT
BEGIN:VEVENT
DTSTART;VALUE=DATE:20260106
DTEND;VALUE=DATE:20260107
DTSTAMP:20260422T072043
CREATED:20251114T124047Z
LAST-MODIFIED:20251114T124047Z
UID:10062-1767657600-1767743999@stjohnsrotherhithe.co.uk
SUMMARY:1st day of Spring Term. Start at 8.45am
DESCRIPTION:1st day of Spring Term. Start at 8.45am
URL:https://stjohnsrotherhithe.co.uk/event/1st-day-of-spring-term-start-at-8-45am/
END:VEVENT
BEGIN:VEVENT
DTSTART;VALUE=DATE:20260113
DTEND;VALUE=DATE:20260114
DTSTAMP:20260422T072043
CREATED:20260109T135559Z
LAST-MODIFIED:20260109T135559Z
UID:10169-1768262400-1768348799@stjohnsrotherhithe.co.uk
SUMMARY:Year 2 Canada Water Library Visit - 10:30am
DESCRIPTION:Year 2 Canada Water Library Visit – 10:30am
URL:https://stjohnsrotherhithe.co.uk/event/year-2-canada-water-library-visit-1030am-5/
END:VEVENT
BEGIN:VEVENT
DTSTART;VALUE=DATE:20260120
DTEND;VALUE=DATE:20260121
DTSTAMP:20260422T072043
CREATED:20260109T135623Z
LAST-MODIFIED:20260109T135623Z
UID:10171-1768867200-1768953599@stjohnsrotherhithe.co.uk
SUMMARY:Year 1 Canada Water Library Visit - 10:30am
DESCRIPTION:Year 1 Canada Water Library Visit – 10:30am
URL:https://stjohnsrotherhithe.co.uk/event/year-1-canada-water-library-visit-1030am-5/
END:VEVENT
BEGIN:VEVENT
DTSTART;VALUE=DATE:20260122
DTEND;VALUE=DATE:20260123
DTSTAMP:20260422T072043
CREATED:20251216T104927Z
LAST-MODIFIED:20251216T104927Z
UID:10138-1769040000-1769126399@stjohnsrotherhithe.co.uk
SUMMARY:Year 2 trip to the Tower of London
DESCRIPTION:Year 2 trip to the Tower of London
URL:https://stjohnsrotherhithe.co.uk/event/year-2-trip-to-the-tower-of-london/
END:VEVENT
BEGIN:VEVENT
DTSTART;VALUE=DATE:20260127
DTEND;VALUE=DATE:20260128
DTSTAMP:20260422T072043
CREATED:20260109T135650Z
LAST-MODIFIED:20260109T135650Z
UID:10173-1769472000-1769558399@stjohnsrotherhithe.co.uk
SUMMARY:Nursery Canada Water Library Visit - 10:30am
DESCRIPTION:Nursery Canada Water Library Visit – 10:30am
URL:https://stjohnsrotherhithe.co.uk/event/nursery-canada-water-library-visit-1030am/
END:VEVENT
BEGIN:VEVENT
DTSTART;VALUE=DATE:20260128
DTEND;VALUE=DATE:20260129
DTSTAMP:20260422T072043
CREATED:20251216T104946Z
LAST-MODIFIED:20251216T104946Z
UID:10140-1769558400-1769644799@stjohnsrotherhithe.co.uk
SUMMARY:Year 6 trip to Camley Street Natural Park
DESCRIPTION:Year 6 trip to Camley Street Natural Park
URL:https://stjohnsrotherhithe.co.uk/event/year-6-trip-to-camley-street-natural-park/
END:VEVENT
BEGIN:VEVENT
DTSTART;VALUE=DATE:20260129
DTEND;VALUE=DATE:20260130
DTSTAMP:20260422T072043
CREATED:20260116T124112Z
LAST-MODIFIED:20260116T124112Z
UID:10198-1769644800-1769731199@stjohnsrotherhithe.co.uk
SUMMARY:Year 6 - Collective Worship Assembly at 3pm (Parents invited. Doors will open at 2.50pm)
DESCRIPTION:Year 6 – Collective Worship Assembly at 3pm (Parents invited. Doors will open at 2.50pm)
URL:https://stjohnsrotherhithe.co.uk/event/year-6-collective-worship-assembly-at-3pm-parents-invited-doors-will-open-at-2-50pm/
END:VEVENT
END:VCALENDAR