BEGIN:VCALENDAR
VERSION:2.0
PRODID:-//St John’s Catholic Primary School - ECPv6.1.0.2//NONSGML v1.0//EN
CALSCALE:GREGORIAN
METHOD:PUBLISH
X-ORIGINAL-URL:https://stjohnsrotherhithe.co.uk
X-WR-CALDESC:Events for St John’s Catholic Primary School
REFRESH-INTERVAL;VALUE=DURATION:PT1H
X-Robots-Tag:noindex
X-PUBLISHED-TTL:PT1H
BEGIN:VTIMEZONE
TZID:UTC
BEGIN:STANDARD
TZOFFSETFROM:+0000
TZOFFSETTO:+0000
TZNAME:UTC
DTSTART:20250101T000000
END:STANDARD
END:VTIMEZONE
BEGIN:VEVENT
DTSTART;VALUE=DATE:20251104
DTEND;VALUE=DATE:20251105
DTSTAMP:20260422T121804
CREATED:20250918T090002Z
LAST-MODIFIED:20250918T090002Z
UID:9974-1762214400-1762300799@stjohnsrotherhithe.co.uk
SUMMARY:Year 2  Canada Water Library Visit: 10:30am
DESCRIPTION:Year 2  Canada Water Library Visit: 10:30am
URL:https://stjohnsrotherhithe.co.uk/event/year-2-canada-water-library-visit-1030am-3/
END:VEVENT
BEGIN:VEVENT
DTSTART;VALUE=DATE:20251111
DTEND;VALUE=DATE:20251112
DTSTAMP:20260422T121804
CREATED:20250918T090017Z
LAST-MODIFIED:20250918T090017Z
UID:9976-1762819200-1762905599@stjohnsrotherhithe.co.uk
SUMMARY:Year 1  Canada Water Library Visit: 10:30am
DESCRIPTION:Year 1  Canada Water Library Visit: 10:30am
URL:https://stjohnsrotherhithe.co.uk/event/year-1-canada-water-library-visit-1030am-3/
END:VEVENT
BEGIN:VEVENT
DTSTART;VALUE=DATE:20251113
DTEND;VALUE=DATE:20251114
DTSTAMP:20260422T121804
CREATED:20251017T105626Z
LAST-MODIFIED:20251017T105626Z
UID:10029-1762992000-1763078399@stjohnsrotherhithe.co.uk
SUMMARY:Year 6 Fundraiser (children can bring up to £5)
DESCRIPTION:Year 6 Fundraiser (children can bring up to £5)
URL:https://stjohnsrotherhithe.co.uk/event/year-6-fundraiser-children-can-bring-up-to-5/
END:VEVENT
BEGIN:VEVENT
DTSTART;VALUE=DATE:20251114
DTEND;VALUE=DATE:20251115
DTSTAMP:20260422T121804
CREATED:20251017T105653Z
LAST-MODIFIED:20251017T105653Z
UID:10031-1763078400-1763164799@stjohnsrotherhithe.co.uk
SUMMARY:Children in Need 2025 (Children may come to school dressed in their pyjamas\, anything spotty or Pudsey themed for a small donation of 50p)
DESCRIPTION:Children in Need 2025 (Children may come to school dressed in their pyjamas\, anything spotty or Pudsey themed for a small donation of 50p)
URL:https://stjohnsrotherhithe.co.uk/event/children-in-need-2025-children-may-come-to-school-dressed-in-their-pyjamas-anything-spotty-or-pudsey-themed-for-a-small-donation-of-50p/
END:VEVENT
BEGIN:VEVENT
DTSTART;VALUE=DATE:20251118
DTEND;VALUE=DATE:20251119
DTSTAMP:20260422T121804
CREATED:20250918T090040Z
LAST-MODIFIED:20250918T090040Z
UID:9978-1763424000-1763510399@stjohnsrotherhithe.co.uk
SUMMARY:Reception  Canada Water Library Visit: 10:30am
DESCRIPTION:Reception  Canada Water Library Visit: 10:30am
URL:https://stjohnsrotherhithe.co.uk/event/reception-canada-water-library-visit-1030am-2/
END:VEVENT
BEGIN:VEVENT
DTSTART;VALUE=DATE:20251119
DTEND;VALUE=DATE:20251120
DTSTAMP:20260422T121804
CREATED:20251114T123820Z
LAST-MODIFIED:20251114T123820Z
UID:10050-1763510400-1763596799@stjohnsrotherhithe.co.uk
SUMMARY:Year 6 - Trip to the Science Museum
DESCRIPTION:Year 6 – Trip to the Science Museum
URL:https://stjohnsrotherhithe.co.uk/event/year-6-trip-to-the-science-museum/
END:VEVENT
BEGIN:VEVENT
DTSTART;VALUE=DATE:20251120
DTEND;VALUE=DATE:20251121
DTSTAMP:20260422T121804
CREATED:20250904T112545Z
LAST-MODIFIED:20250904T112545Z
UID:9903-1763596800-1763683199@stjohnsrotherhithe.co.uk
SUMMARY:Reception's Parents' evening\, face to face
DESCRIPTION:Reception’s Parents’ evening\, face to face
URL:https://stjohnsrotherhithe.co.uk/event/receptions-parents-evening-face-to-face/
END:VEVENT
BEGIN:VEVENT
DTSTART;VALUE=DATE:20251120
DTEND;VALUE=DATE:20251121
DTSTAMP:20260422T121804
CREATED:20251114T150848Z
LAST-MODIFIED:20251114T150848Z
UID:10068-1763596800-1763683199@stjohnsrotherhithe.co.uk
SUMMARY:Nursery Stay & Play (9-10am)
DESCRIPTION:Nursery Stay & Play (9-10am)
URL:https://stjohnsrotherhithe.co.uk/event/nursery-stay-play-9-10am/
END:VEVENT
BEGIN:VEVENT
DTSTART;VALUE=DATE:20251121
DTEND;VALUE=DATE:20251122
DTSTAMP:20260422T121804
CREATED:20250904T112603Z
LAST-MODIFIED:20250904T112603Z
UID:9905-1763683200-1763769599@stjohnsrotherhithe.co.uk
SUMMARY:Reception's Parents' evening\, phone calls
DESCRIPTION:Reception’s Parents’ evening\, phone calls
URL:https://stjohnsrotherhithe.co.uk/event/receptions-parents-evening-phone-calls/
END:VEVENT
BEGIN:VEVENT
DTSTART;VALUE=DATE:20251121
DTEND;VALUE=DATE:20251122
DTSTAMP:20260422T121804
CREATED:20251114T123842Z
LAST-MODIFIED:20251114T123842Z
UID:10052-1763683200-1763769599@stjohnsrotherhithe.co.uk
SUMMARY:Flu Vaccination
DESCRIPTION:Flu Vaccination
URL:https://stjohnsrotherhithe.co.uk/event/flu-vaccination/
END:VEVENT
BEGIN:VEVENT
DTSTART;VALUE=DATE:20251121
DTEND;VALUE=DATE:20251122
DTSTAMP:20260422T121804
CREATED:20251114T150909Z
LAST-MODIFIED:20251114T150909Z
UID:10070-1763683200-1763769599@stjohnsrotherhithe.co.uk
SUMMARY:Nursery Stay & Play (9-10am)
DESCRIPTION:Nursery Stay & Play (9-10am)
URL:https://stjohnsrotherhithe.co.uk/event/nursery-stay-play-9-10am-2/
END:VEVENT
BEGIN:VEVENT
DTSTART;VALUE=DATE:20251125
DTEND;VALUE=DATE:20251126
DTSTAMP:20260422T121804
CREATED:20250918T090057Z
LAST-MODIFIED:20250918T090057Z
UID:9980-1764028800-1764115199@stjohnsrotherhithe.co.uk
SUMMARY:Year 2  Canada Water Library Visit: 10:30am
DESCRIPTION:Year 2  Canada Water Library Visit: 10:30am
URL:https://stjohnsrotherhithe.co.uk/event/year-2-canada-water-library-visit-1030am-4/
END:VEVENT
BEGIN:VEVENT
DTSTART;VALUE=DATE:20251128
DTEND;VALUE=DATE:20251129
DTSTAMP:20260422T121804
CREATED:20250912T154708Z
LAST-MODIFIED:20250912T154708Z
UID:9949-1764288000-1764374399@stjohnsrotherhithe.co.uk
SUMMARY:Year 2 - Trip to the Maritime Museum
DESCRIPTION:Year 2 – Trip to the Maritime Museum
URL:https://stjohnsrotherhithe.co.uk/event/year-2-trip-to-the-maritime-museum/
END:VEVENT
BEGIN:VEVENT
DTSTART;VALUE=DATE:20251128
DTEND;VALUE=DATE:20251129
DTSTAMP:20260422T121804
CREATED:20251114T123901Z
LAST-MODIFIED:20251114T123901Z
UID:10054-1764288000-1764374399@stjohnsrotherhithe.co.uk
SUMMARY:Year 5 - Dance Collaboration
DESCRIPTION:Year 5 – Dance Collaboration
URL:https://stjohnsrotherhithe.co.uk/event/year-5-dance-collaboration/
END:VEVENT
END:VCALENDAR