BEGIN:VCALENDAR
VERSION:2.0
PRODID:-//St John’s Catholic Primary School - ECPv6.1.0.2//NONSGML v1.0//EN
CALSCALE:GREGORIAN
METHOD:PUBLISH
X-WR-CALNAME:St John’s Catholic Primary School
X-ORIGINAL-URL:https://stjohnsrotherhithe.co.uk
X-WR-CALDESC:Events for St John’s Catholic Primary School
REFRESH-INTERVAL;VALUE=DURATION:PT1H
X-Robots-Tag:noindex
X-PUBLISHED-TTL:PT1H
BEGIN:VTIMEZONE
TZID:UTC
BEGIN:STANDARD
TZOFFSETFROM:+0000
TZOFFSETTO:+0000
TZNAME:UTC
DTSTART:20260101T000000
END:STANDARD
END:VTIMEZONE
BEGIN:VEVENT
DTSTART;VALUE=DATE:20260605
DTEND;VALUE=DATE:20260606
DTSTAMP:20260422T023726
CREATED:20260414T142453Z
LAST-MODIFIED:20260414T142453Z
UID:10287-1780617600-1780703999@stjohnsrotherhithe.co.uk
SUMMARY:IOW Parents Meeting. Please arrive before 8.15am
DESCRIPTION:IOW Parents Meeting. Please arrive before 8.15am
URL:https://stjohnsrotherhithe.co.uk/event/iow-parents-meeting-please-arrive-before-8-15am/
END:VEVENT
END:VCALENDAR