BEGIN:VCALENDAR
VERSION:2.0
PRODID:-//St John’s Catholic Primary School - ECPv6.1.0.2//NONSGML v1.0//EN
CALSCALE:GREGORIAN
METHOD:PUBLISH
X-ORIGINAL-URL:https://stjohnsrotherhithe.co.uk
X-WR-CALDESC:Events for St John’s Catholic Primary School
REFRESH-INTERVAL;VALUE=DURATION:PT1H
X-Robots-Tag:noindex
X-PUBLISHED-TTL:PT1H
BEGIN:VTIMEZONE
TZID:UTC
BEGIN:STANDARD
TZOFFSETFROM:+0000
TZOFFSETTO:+0000
TZNAME:UTC
DTSTART:20260101T000000
END:STANDARD
END:VTIMEZONE
BEGIN:VEVENT
DTSTART;VALUE=DATE:20260327
DTEND;VALUE=DATE:20260328
DTSTAMP:20260422T015112
CREATED:20260312T151614Z
LAST-MODIFIED:20260312T151614Z
UID:10255-1774569600-1774655999@stjohnsrotherhithe.co.uk
SUMMARY:Last day of the Spring Term (1.30pm finish)
DESCRIPTION:Last day of the Spring Term (1.30pm finish)
URL:https://stjohnsrotherhithe.co.uk/event/last-day-of-the-spring-term-1-30pm-finish/
END:VEVENT
END:VCALENDAR