BEGIN:VCALENDAR
VERSION:2.0
PRODID:-//St John’s Catholic Primary School - ECPv6.1.0.2//NONSGML v1.0//EN
CALSCALE:GREGORIAN
METHOD:PUBLISH
X-WR-CALNAME:St John’s Catholic Primary School
X-ORIGINAL-URL:https://stjohnsrotherhithe.co.uk
X-WR-CALDESC:Events for St John’s Catholic Primary School
REFRESH-INTERVAL;VALUE=DURATION:PT1H
X-Robots-Tag:noindex
X-PUBLISHED-TTL:PT1H
BEGIN:VTIMEZONE
TZID:UTC
BEGIN:STANDARD
TZOFFSETFROM:+0000
TZOFFSETTO:+0000
TZNAME:UTC
DTSTART:20260101T000000
END:STANDARD
END:VTIMEZONE
BEGIN:VEVENT
DTSTART;VALUE=DATE:20260305
DTEND;VALUE=DATE:20260306
DTSTAMP:20260422T014534
CREATED:20260116T123910Z
LAST-MODIFIED:20260116T123910Z
UID:10192-1772668800-1772755199@stjohnsrotherhithe.co.uk
SUMMARY:World Book Day
DESCRIPTION:World Book Day
URL:https://stjohnsrotherhithe.co.uk/event/world-book-day/
END:VEVENT
END:VCALENDAR