BEGIN:VCALENDAR
VERSION:2.0
PRODID:-//St John’s Catholic Primary School - ECPv6.1.0.2//NONSGML v1.0//EN
CALSCALE:GREGORIAN
METHOD:PUBLISH
X-ORIGINAL-URL:https://stjohnsrotherhithe.co.uk
X-WR-CALDESC:Events for St John’s Catholic Primary School
REFRESH-INTERVAL;VALUE=DURATION:PT1H
X-Robots-Tag:noindex
X-PUBLISHED-TTL:PT1H
BEGIN:VTIMEZONE
TZID:UTC
BEGIN:STANDARD
TZOFFSETFROM:+0000
TZOFFSETTO:+0000
TZNAME:UTC
DTSTART:20250101T000000
END:STANDARD
END:VTIMEZONE
BEGIN:VEVENT
DTSTART;VALUE=DATE:20251014
DTEND;VALUE=DATE:20251015
DTSTAMP:20260422T215916
CREATED:20250918T085944Z
LAST-MODIFIED:20250918T085944Z
UID:9972-1760400000-1760486399@stjohnsrotherhithe.co.uk
SUMMARY:Reception  Canada Water Library Visit: 10:30am
DESCRIPTION:Reception  Canada Water Library Visit: 10:30am
URL:https://stjohnsrotherhithe.co.uk/event/reception-canada-water-library-visit-1030am/
END:VEVENT
END:VCALENDAR