BEGIN:VCALENDAR
VERSION:2.0
PRODID:-//St John’s Catholic Primary School - ECPv6.1.0.2//NONSGML v1.0//EN
CALSCALE:GREGORIAN
METHOD:PUBLISH
X-ORIGINAL-URL:https://stjohnsrotherhithe.co.uk
X-WR-CALDESC:Events for St John’s Catholic Primary School
REFRESH-INTERVAL;VALUE=DURATION:PT1H
X-Robots-Tag:noindex
X-PUBLISHED-TTL:PT1H
BEGIN:VTIMEZONE
TZID:UTC
BEGIN:STANDARD
TZOFFSETFROM:+0000
TZOFFSETTO:+0000
TZNAME:UTC
DTSTART:20250101T000000
END:STANDARD
END:VTIMEZONE
BEGIN:VEVENT
DTSTART;VALUE=DATE:20251002
DTEND;VALUE=DATE:20251003
DTSTAMP:20260422T220145
CREATED:20250904T112353Z
LAST-MODIFIED:20250904T112353Z
UID:9889-1759363200-1759449599@stjohnsrotherhithe.co.uk
SUMMARY:Phonics workshop for Nursery\, Reception and Year 1 parents at 9.15am in the school hall
DESCRIPTION:Phonics workshop for Nursery\, Reception and Year 1 parents at 9.15am in the school hall
URL:https://stjohnsrotherhithe.co.uk/event/phonics-workshop-for-nursery-reception-and-year-1-parents-at-9-15am-in-the-school-hall/
END:VEVENT
END:VCALENDAR