BEGIN:VCALENDAR
VERSION:2.0
PRODID:-//St John’s Catholic Primary School - ECPv6.1.0.2//NONSGML v1.0//EN
CALSCALE:GREGORIAN
METHOD:PUBLISH
X-ORIGINAL-URL:https://stjohnsrotherhithe.co.uk
X-WR-CALDESC:Events for St John’s Catholic Primary School
REFRESH-INTERVAL;VALUE=DURATION:PT1H
X-Robots-Tag:noindex
X-PUBLISHED-TTL:PT1H
BEGIN:VTIMEZONE
TZID:UTC
BEGIN:STANDARD
TZOFFSETFROM:+0000
TZOFFSETTO:+0000
TZNAME:UTC
DTSTART:20250101T000000
END:STANDARD
END:VTIMEZONE
BEGIN:VEVENT
DTSTART;VALUE=DATE:20250926
DTEND;VALUE=DATE:20250927
DTSTAMP:20260423T023803
CREATED:20250904T112333Z
LAST-MODIFIED:20250904T112333Z
UID:9887-1758844800-1758931199@stjohnsrotherhithe.co.uk
SUMMARY:Year 2 - Meet the teacher at 9am (Parents invited) - Hall
DESCRIPTION:Year 2 – Meet the teacher at 9am (Parents invited) – Hall
URL:https://stjohnsrotherhithe.co.uk/event/year-2-meet-the-teacher-at-9am-parents-invited-hall/
END:VEVENT
END:VCALENDAR